Package: MGFM Version: 1.36.0 Command: rm -rf MGFM.buildbin-libdir && mkdir MGFM.buildbin-libdir && F:\biocbuild\bbs-3.18-bioc\R\bin\R.exe CMD INSTALL --build --library=MGFM.buildbin-libdir MGFM_1.36.0.tar.gz StartedAt: 2024-04-16 07:16:33 -0400 (Tue, 16 Apr 2024) EndedAt: 2024-04-16 07:16:51 -0400 (Tue, 16 Apr 2024) EllapsedTime: 18.4 seconds RetCode: 0 Status: OK PackageFile: MGFM_1.36.0.zip PackageFileSize: 2.957 MiB