Package: MGFM Version: 1.36.0 Command: chmod a+r MGFM -R && F:\biocbuild\bbs-3.18-bioc\R\bin\R.exe CMD build --keep-empty-dirs --no-resave-data MGFM StartedAt: 2024-04-15 19:31:16 -0400 (Mon, 15 Apr 2024) EndedAt: 2024-04-15 19:31:50 -0400 (Mon, 15 Apr 2024) EllapsedTime: 33.9 seconds RetCode: 0 Status: OK PackageFile: MGFM_1.36.0.tar.gz PackageFileSize: 3.3 MiB