Package: MGFM Version: 1.36.0 Command: F:\biocbuild\bbs-3.18-bioc\R\bin\R.exe CMD check --no-multiarch --install=check:MGFM.install-out.txt --library=F:\biocbuild\bbs-3.18-bioc\R\library --no-vignettes --timings MGFM_1.36.0.tar.gz StartedAt: 2024-04-16 02:35:04 -0400 (Tue, 16 Apr 2024) EndedAt: 2024-04-16 02:36:56 -0400 (Tue, 16 Apr 2024) EllapsedTime: 112.1 seconds RetCode: 0 Status: OK CheckDir: MGFM.Rcheck Warnings: 0