git_url: https://git.bioconductor.org/packages/MIGSA git_branch: devel git_last_commit: 5439cca git_last_commit_date: 2023-02-08 10:45:04 -0400 (Wed, 08 Feb 2023) Package: MIGSA Version: 1.23.1 Maintainer: Juan C. Rodriguez MaintainerEmail: jcrodriguez at unc.edu.ar