Package: MIMOSA Version: 1.37.1 Command: /home/biocbuild/bbs-3.18-bioc/R/bin/R CMD INSTALL MIMOSA StartedAt: 2023-04-20 03:52:17 -0400 (Thu, 20 Apr 2023) EndedAt: 2023-04-20 03:52:57 -0400 (Thu, 20 Apr 2023) EllapsedTime: 39.7 seconds RetCode: 0 Status: OK