Package: MMUPHin Version: 1.16.0 Command: /home/biocbuild/R/R-4.3.1/bin/R CMD check --install=check:MMUPHin.install-out.txt --library=/home/biocbuild/R/R-4.3.1/site-library --no-vignettes --timings MMUPHin_1.16.0.tar.gz StartedAt: 2023-11-02 12:17:26 -0000 (Thu, 02 Nov 2023) EndedAt: 2023-11-02 12:18:36 -0000 (Thu, 02 Nov 2023) EllapsedTime: 69.3 seconds RetCode: 1 Status: ERROR CheckDir: MMUPHin.Rcheck Warnings: NA