Package: MMUPHin Version: 1.16.0 Command: /Library/Frameworks/R.framework/Resources/bin/R CMD build --keep-empty-dirs --no-resave-data MMUPHin StartedAt: 2024-03-03 17:25:12 -0500 (Sun, 03 Mar 2024) EndedAt: 2024-03-03 17:26:24 -0500 (Sun, 03 Mar 2024) EllapsedTime: 72.4 seconds RetCode: 0 Status: OK PackageFile: MMUPHin_1.16.0.tar.gz PackageFileSize: 3.528 MiB