Package: MODA Version: 1.28.0 Command: /Library/Frameworks/R.framework/Resources/bin/R CMD INSTALL MODA StartedAt: 2024-03-03 15:31:29 -0500 (Sun, 03 Mar 2024) EndedAt: 2024-03-03 15:31:57 -0500 (Sun, 03 Mar 2024) EllapsedTime: 28.1 seconds RetCode: 0 Status: OK