Package: MODA Version: 1.28.0 Command: /home/biocbuild/bbs-3.18-bioc/R/bin/R CMD build --keep-empty-dirs --no-resave-data MODA StartedAt: 2024-04-15 18:00:59 -0400 (Mon, 15 Apr 2024) EndedAt: 2024-04-15 18:01:00 -0400 (Mon, 15 Apr 2024) EllapsedTime: 1.3 seconds RetCode: 0 Status: OK PackageFile: MODA_1.28.0.tar.gz PackageFileSize: 296.2 KiB