Package: MSA2dist Version: 1.6.0 Command: /Library/Frameworks/R.framework/Resources/bin/R CMD build --keep-empty-dirs --no-resave-data MSA2dist StartedAt: 2024-04-15 20:14:09 -0400 (Mon, 15 Apr 2024) EndedAt: 2024-04-15 20:18:17 -0400 (Mon, 15 Apr 2024) EllapsedTime: 248.4 seconds RetCode: 0 Status: OK PackageFile: MSA2dist_1.6.0.tar.gz PackageFileSize: 868.9 KiB