Package: MSA2dist Version: 1.6.0 Command: rm -rf MSA2dist.buildbin-libdir && mkdir MSA2dist.buildbin-libdir && F:\biocbuild\bbs-3.18-bioc\R\bin\R.exe CMD INSTALL --build --library=MSA2dist.buildbin-libdir MSA2dist_1.6.0.tar.gz StartedAt: 2024-04-16 07:19:08 -0400 (Tue, 16 Apr 2024) EndedAt: 2024-04-16 07:21:18 -0400 (Tue, 16 Apr 2024) EllapsedTime: 129.5 seconds RetCode: 0 Status: OK PackageFile: MSA2dist_1.6.0.zip PackageFileSize: 1.233 MiB