Package: MSnbase Version: 2.28.1 Command: /home/biocbuild/bbs-3.18-bioc/R/bin/R CMD INSTALL MSnbase StartedAt: 2024-04-15 15:22:13 -0400 (Mon, 15 Apr 2024) EndedAt: 2024-04-15 15:22:59 -0400 (Mon, 15 Apr 2024) EllapsedTime: 46.1 seconds RetCode: 0 Status: OK