Package: MSstats Version: 4.10.1 Command: /Library/Frameworks/R.framework/Resources/bin/R CMD check --install=check:MSstats.install-out.txt --library=/Library/Frameworks/R.framework/Resources/library --no-vignettes --timings MSstats_4.10.1.tar.gz StartedAt: 2024-04-16 05:53:31 -0400 (Tue, 16 Apr 2024) EndedAt: 2024-04-16 05:57:40 -0400 (Tue, 16 Apr 2024) EllapsedTime: 248.4 seconds RetCode: 0 Status: WARNINGS CheckDir: MSstats.Rcheck Warnings: 1