Package: MSstats Version: 4.10.1 Command: F:\biocbuild\bbs-3.18-bioc\R\bin\R.exe CMD INSTALL MSstats StartedAt: 2024-04-15 16:23:31 -0400 (Mon, 15 Apr 2024) EndedAt: 2024-04-15 16:24:49 -0400 (Mon, 15 Apr 2024) EllapsedTime: 78.1 seconds RetCode: 0 Status: OK