Package: MSstatsBig Version: 1.0.0 Command: rm -rf MSstatsBig.buildbin-libdir && mkdir MSstatsBig.buildbin-libdir && /Users/biocbuild/BBS/utils/build-universal.sh MSstatsBig_1.0.0.tar.gz /Library/Frameworks/R.framework/Resources/bin/R MSstatsBig.buildbin-libdir StartedAt: 2024-02-22 00:28:33 -0500 (Thu, 22 Feb 2024) EndedAt: 2024-02-22 00:28:52 -0500 (Thu, 22 Feb 2024) EllapsedTime: 18.3 seconds RetCode: 0 Status: OK PackageFile: MSstatsBig_1.0.0.tgz PackageFileSize: 94.5 KiB