Package: MSstatsBig Version: 1.0.0 Command: /Library/Frameworks/R.framework/Resources/bin/R CMD build --keep-empty-dirs --no-resave-data MSstatsBig StartedAt: 2024-03-03 17:31:02 -0500 (Sun, 03 Mar 2024) EndedAt: 2024-03-03 17:31:20 -0500 (Sun, 03 Mar 2024) EllapsedTime: 18.0 seconds RetCode: 1 Status: ERROR PackageFile: None PackageFileSize: NA