Package: MSstatsBig Version: 1.0.1 Command: /Library/Frameworks/R.framework/Resources/bin/R CMD INSTALL MSstatsBig StartedAt: 2024-04-15 16:10:20 -0400 (Mon, 15 Apr 2024) EndedAt: 2024-04-15 16:10:54 -0400 (Mon, 15 Apr 2024) EllapsedTime: 33.3 seconds RetCode: 0 Status: OK