Package: MSstatsBig Version: 1.0.1 Command: chmod a+r MSstatsBig -R && F:\biocbuild\bbs-3.18-bioc\R\bin\R.exe CMD build --keep-empty-dirs --no-resave-data MSstatsBig StartedAt: 2024-04-15 19:46:22 -0400 (Mon, 15 Apr 2024) EndedAt: 2024-04-15 19:46:45 -0400 (Mon, 15 Apr 2024) EllapsedTime: 23.3 seconds RetCode: 0 Status: OK PackageFile: MSstatsBig_1.0.1.tar.gz PackageFileSize: 70.27 KiB