Package: MSstatsConvert Version: 1.12.1 Command: /Library/Frameworks/R.framework/Resources/bin/R CMD build --keep-empty-dirs --no-resave-data MSstatsConvert StartedAt: 2024-04-15 20:17:37 -0400 (Mon, 15 Apr 2024) EndedAt: 2024-04-15 20:17:54 -0400 (Mon, 15 Apr 2024) EllapsedTime: 16.6 seconds RetCode: 0 Status: OK PackageFile: MSstatsConvert_1.12.1.tar.gz PackageFileSize: 1.749 MiB