Package: MSstatsLOBD Version: 1.10.0 Command: /home/biocbuild/R/R-4.3.1/bin/R CMD build --keep-empty-dirs --no-resave-data MSstatsLOBD StartedAt: 2023-11-02 03:49:10 -0000 (Thu, 02 Nov 2023) EndedAt: 2023-11-02 03:49:40 -0000 (Thu, 02 Nov 2023) EllapsedTime: 30.0 seconds RetCode: 0 Status: OK PackageFile: MSstatsLOBD_1.10.0.tar.gz PackageFileSize: 305.9 KiB