Package: MSstatsLOBD Version: 1.10.0 Command: /home/biocbuild/R/R-4.3.1/bin/R CMD check --install=check:MSstatsLOBD.install-out.txt --library=/home/biocbuild/R/R-4.3.1/site-library --no-vignettes --timings MSstatsLOBD_1.10.0.tar.gz StartedAt: 2023-11-02 12:30:33 -0000 (Thu, 02 Nov 2023) EndedAt: 2023-11-02 12:31:09 -0000 (Thu, 02 Nov 2023) EllapsedTime: 36.1 seconds RetCode: 0 Status: OK CheckDir: MSstatsLOBD.Rcheck Warnings: 0