Package: MSstatsLOBD Version: 1.10.0 Command: /Library/Frameworks/R.framework/Resources/bin/R CMD check --install=check:MSstatsLOBD.install-out.txt --library=/Library/Frameworks/R.framework/Resources/library --no-vignettes --timings MSstatsLOBD_1.10.0.tar.gz StartedAt: 2024-03-03 22:02:56 -0500 (Sun, 03 Mar 2024) EndedAt: 2024-03-03 22:03:41 -0500 (Sun, 03 Mar 2024) EllapsedTime: 45.0 seconds RetCode: 0 Status: OK CheckDir: MSstatsLOBD.Rcheck Warnings: 0