Package: MSstatsPTM Version: 2.4.4 Command: /Library/Frameworks/R.framework/Resources/bin/R CMD check --install=check:MSstatsPTM.install-out.txt --library=/Library/Frameworks/R.framework/Resources/library --no-vignettes --timings MSstatsPTM_2.4.4.tar.gz StartedAt: 2024-04-16 05:54:34 -0400 (Tue, 16 Apr 2024) EndedAt: 2024-04-16 06:01:52 -0400 (Tue, 16 Apr 2024) EllapsedTime: 437.5 seconds RetCode: 0 Status: OK CheckDir: MSstatsPTM.Rcheck Warnings: 0