Package: MSstatsQCgui Version: 1.22.0 Maintainer: Eralp Dogu MaintainerEmail: eralp.dogu at gmail.com git_url: https://git.bioconductor.org/packages/MSstatsQCgui git_branch: RELEASE_3_18 git_last_commit: edab08d git_last_commit_date: 2023-10-24 11:05:21 -0400 (Tue, 24 Oct 2023)