Package: MSstatsQCgui Version: 1.22.0 Command: /home/biocbuild/R/R-4.3.1/bin/R CMD INSTALL MSstatsQCgui StartedAt: 2023-11-01 20:41:03 -0000 (Wed, 01 Nov 2023) EndedAt: 2023-11-01 20:41:26 -0000 (Wed, 01 Nov 2023) EllapsedTime: 23.6 seconds RetCode: 0 Status: OK