Package: MSstatsQCgui Version: 1.22.0 Command: rm -rf MSstatsQCgui.buildbin-libdir && mkdir MSstatsQCgui.buildbin-libdir && /Users/biocbuild/BBS/utils/build-universal.sh MSstatsQCgui_1.22.0.tar.gz /Library/Frameworks/R.framework/Resources/bin/R MSstatsQCgui.buildbin-libdir StartedAt: 2024-03-04 00:52:33 -0500 (Mon, 04 Mar 2024) EndedAt: 2024-03-04 00:53:01 -0500 (Mon, 04 Mar 2024) EllapsedTime: 27.1 seconds RetCode: 0 Status: OK PackageFile: MSstatsQCgui_1.22.0.tgz PackageFileSize: 85.27 KiB