Package: MSstatsQCgui Version: 1.22.0 Command: /Library/Frameworks/R.framework/Resources/bin/R CMD build --keep-empty-dirs --no-resave-data MSstatsQCgui StartedAt: 2024-03-03 17:31:23 -0500 (Sun, 03 Mar 2024) EndedAt: 2024-03-03 17:31:49 -0500 (Sun, 03 Mar 2024) EllapsedTime: 26.1 seconds RetCode: 0 Status: OK PackageFile: MSstatsQCgui_1.22.0.tar.gz PackageFileSize: 75.37 KiB