Package: MSstatsQCgui Version: 1.22.0 Command: /Library/Frameworks/R.framework/Resources/bin/R CMD check --install=check:MSstatsQCgui.install-out.txt --library=/Library/Frameworks/R.framework/Resources/library --no-vignettes --timings MSstatsQCgui_1.22.0.tar.gz StartedAt: 2024-03-03 22:03:36 -0500 (Sun, 03 Mar 2024) EndedAt: 2024-03-03 22:05:57 -0500 (Sun, 03 Mar 2024) EllapsedTime: 141.2 seconds RetCode: 0 Status: OK CheckDir: MSstatsQCgui.Rcheck Warnings: 0