Package: MSstatsQCgui Version: 1.22.0 Command: /Library/Frameworks/R.framework/Resources/bin/R CMD build --keep-empty-dirs --no-resave-data MSstatsQCgui StartedAt: 2024-04-15 20:18:22 -0400 (Mon, 15 Apr 2024) EndedAt: 2024-04-15 20:19:06 -0400 (Mon, 15 Apr 2024) EllapsedTime: 43.3 seconds RetCode: 0 Status: OK PackageFile: MSstatsQCgui_1.22.0.tar.gz PackageFileSize: 75.37 KiB