Package: MSstatsQCgui Version: 1.22.0 Command: /Library/Frameworks/R.framework/Resources/bin/R CMD INSTALL MSstatsQCgui StartedAt: 2024-04-15 16:02:28 -0400 (Mon, 15 Apr 2024) EndedAt: 2024-04-15 16:03:05 -0400 (Mon, 15 Apr 2024) EllapsedTime: 36.8 seconds RetCode: 0 Status: OK