Package: MSstatsQCgui Version: 1.22.0 Command: /home/biocbuild/bbs-3.18-bioc/R/bin/R CMD build --keep-empty-dirs --no-resave-data MSstatsQCgui StartedAt: 2024-04-15 18:06:58 -0400 (Mon, 15 Apr 2024) EndedAt: 2024-04-15 18:07:16 -0400 (Mon, 15 Apr 2024) EllapsedTime: 17.9 seconds RetCode: 0 Status: OK PackageFile: MSstatsQCgui_1.22.0.tar.gz PackageFileSize: 75.47 KiB