Package: MSstatsQCgui Version: 1.22.0 Command: rm -rf MSstatsQCgui.buildbin-libdir && mkdir MSstatsQCgui.buildbin-libdir && F:\biocbuild\bbs-3.18-bioc\R\bin\R.exe CMD INSTALL --build --library=MSstatsQCgui.buildbin-libdir MSstatsQCgui_1.22.0.tar.gz StartedAt: 2024-04-16 07:20:09 -0400 (Tue, 16 Apr 2024) EndedAt: 2024-04-16 07:20:32 -0400 (Tue, 16 Apr 2024) EllapsedTime: 23.4 seconds RetCode: 0 Status: OK PackageFile: MSstatsQCgui_1.22.0.zip PackageFileSize: 92.92 KiB