Package: MSstatsQCgui Version: 1.22.0 Command: chmod a+r MSstatsQCgui -R && F:\biocbuild\bbs-3.18-bioc\R\bin\R.exe CMD build --keep-empty-dirs --no-resave-data MSstatsQCgui StartedAt: 2024-04-15 19:47:10 -0400 (Mon, 15 Apr 2024) EndedAt: 2024-04-15 19:47:36 -0400 (Mon, 15 Apr 2024) EllapsedTime: 25.6 seconds RetCode: 0 Status: OK PackageFile: MSstatsQCgui_1.22.0.tar.gz PackageFileSize: 75.4 KiB