Package: MSstatsSampleSize Version: 1.16.0 Command: /home/biocbuild/R/R-4.3.1/bin/R CMD build --keep-empty-dirs --no-resave-data MSstatsSampleSize StartedAt: 2023-11-02 03:49:56 -0000 (Thu, 02 Nov 2023) EndedAt: 2023-11-02 03:50:34 -0000 (Thu, 02 Nov 2023) EllapsedTime: 38.1 seconds RetCode: 0 Status: OK PackageFile: MSstatsSampleSize_1.16.0.tar.gz PackageFileSize: 3.236 MiB