Package: MSstatsSampleSize Version: 1.16.0 Command: /home/biocbuild/R/R-4.3.1/bin/R CMD check --install=check:MSstatsSampleSize.install-out.txt --library=/home/biocbuild/R/R-4.3.1/site-library --no-vignettes --timings MSstatsSampleSize_1.16.0.tar.gz StartedAt: 2023-11-02 12:31:06 -0000 (Thu, 02 Nov 2023) EndedAt: 2023-11-02 12:33:25 -0000 (Thu, 02 Nov 2023) EllapsedTime: 138.3 seconds RetCode: 1 Status: ERROR CheckDir: MSstatsSampleSize.Rcheck Warnings: NA