Package: MSstatsSampleSize Version: 1.16.0 Command: /Library/Frameworks/R.framework/Resources/bin/R CMD build --keep-empty-dirs --no-resave-data MSstatsSampleSize StartedAt: 2024-03-03 17:31:24 -0500 (Sun, 03 Mar 2024) EndedAt: 2024-03-03 17:32:05 -0500 (Sun, 03 Mar 2024) EllapsedTime: 40.7 seconds RetCode: 0 Status: OK PackageFile: MSstatsSampleSize_1.16.0.tar.gz PackageFileSize: 3.235 MiB