Package: MSstatsShiny Version: 1.4.3 Command: rm -rf MSstatsShiny.buildbin-libdir && mkdir MSstatsShiny.buildbin-libdir && /Users/biocbuild/BBS/utils/build-universal.sh MSstatsShiny_1.4.3.tar.gz /Library/Frameworks/R.framework/Resources/bin/R MSstatsShiny.buildbin-libdir StartedAt: 2024-04-16 12:17:08 -0400 (Tue, 16 Apr 2024) EndedAt: 2024-04-16 12:18:02 -0400 (Tue, 16 Apr 2024) EllapsedTime: 53.7 seconds RetCode: 0 Status: OK PackageFile: MSstatsShiny_1.4.3.tgz PackageFileSize: 2.294 MiB