Package: MSstatsShiny Version: 1.4.3 Command: /Library/Frameworks/R.framework/Resources/bin/R CMD build --keep-empty-dirs --no-resave-data MSstatsShiny StartedAt: 2024-04-15 20:18:38 -0400 (Mon, 15 Apr 2024) EndedAt: 2024-04-15 20:20:17 -0400 (Mon, 15 Apr 2024) EllapsedTime: 98.4 seconds RetCode: 0 Status: OK PackageFile: MSstatsShiny_1.4.3.tar.gz PackageFileSize: 2.16 MiB