Package: MSstatsShiny Version: 1.4.3 Command: /Library/Frameworks/R.framework/Resources/bin/R CMD INSTALL MSstatsShiny StartedAt: 2024-04-15 16:19:57 -0400 (Mon, 15 Apr 2024) EndedAt: 2024-04-15 16:20:56 -0400 (Mon, 15 Apr 2024) EllapsedTime: 59.5 seconds RetCode: 0 Status: OK