Package: MWASTools Version: 1.26.0 Command: /Library/Frameworks/R.framework/Resources/bin/R CMD INSTALL MWASTools StartedAt: 2024-04-15 16:11:01 -0400 (Mon, 15 Apr 2024) EndedAt: 2024-04-15 16:12:11 -0400 (Mon, 15 Apr 2024) EllapsedTime: 70.8 seconds RetCode: 0 Status: OK