Package: Maaslin2 Version: 1.16.0 Command: rm -rf Maaslin2.buildbin-libdir && mkdir Maaslin2.buildbin-libdir && /Users/biocbuild/BBS/utils/build-universal.sh Maaslin2_1.16.0.tar.gz /Library/Frameworks/R.framework/Resources/bin/R Maaslin2.buildbin-libdir StartedAt: 2024-04-16 12:06:16 -0400 (Tue, 16 Apr 2024) EndedAt: 2024-04-16 12:06:43 -0400 (Tue, 16 Apr 2024) EllapsedTime: 27.7 seconds RetCode: 0 Status: OK PackageFile: Maaslin2_1.16.0.tgz PackageFileSize: 613.1 KiB