Package: Maaslin2 Version: 1.16.0 Command: /home/biocbuild/bbs-3.18-bioc/R/bin/R CMD build --keep-empty-dirs --no-resave-data Maaslin2 StartedAt: 2024-04-15 17:44:32 -0400 (Mon, 15 Apr 2024) EndedAt: 2024-04-15 17:46:15 -0400 (Mon, 15 Apr 2024) EllapsedTime: 102.8 seconds RetCode: 0 Status: OK PackageFile: Maaslin2_1.16.0.tar.gz PackageFileSize: 544.2 KiB