Package: Maaslin2 Version: 1.16.0 Command: chmod a+r Maaslin2 -R && F:\biocbuild\bbs-3.18-bioc\R\bin\R.exe CMD build --keep-empty-dirs --no-resave-data Maaslin2 StartedAt: 2024-04-15 19:18:16 -0400 (Mon, 15 Apr 2024) EndedAt: 2024-04-15 19:20:36 -0400 (Mon, 15 Apr 2024) EllapsedTime: 140.3 seconds RetCode: 0 Status: OK PackageFile: Maaslin2_1.16.0.tar.gz PackageFileSize: 544.2 KiB