Package: MantelCorr Version: 1.72.0 Command: /Library/Frameworks/R.framework/Resources/bin/R CMD check --install=check:MantelCorr.install-out.txt --library=/Library/Frameworks/R.framework/Resources/library --no-vignettes --timings MantelCorr_1.72.0.tar.gz StartedAt: 2024-03-03 21:33:28 -0500 (Sun, 03 Mar 2024) EndedAt: 2024-03-03 21:33:57 -0500 (Sun, 03 Mar 2024) EllapsedTime: 28.6 seconds RetCode: 0 Status: OK CheckDir: MantelCorr.Rcheck Warnings: 0