Package: MantelCorr Version: 1.72.0 Command: /Library/Frameworks/R.framework/Resources/bin/R CMD INSTALL MantelCorr StartedAt: 2024-03-03 15:05:13 -0500 (Sun, 03 Mar 2024) EndedAt: 2024-03-03 15:05:33 -0500 (Sun, 03 Mar 2024) EllapsedTime: 20.2 seconds RetCode: 0 Status: OK