Package: MantelCorr Version: 1.72.0 Command: /home/biocbuild/bbs-3.18-bioc/R/bin/R CMD build --keep-empty-dirs --no-resave-data MantelCorr StartedAt: 2024-04-15 17:45:51 -0400 (Mon, 15 Apr 2024) EndedAt: 2024-04-15 17:45:59 -0400 (Mon, 15 Apr 2024) EllapsedTime: 8.0 seconds RetCode: 0 Status: OK PackageFile: MantelCorr_1.72.0.tar.gz PackageFileSize: 769.4 KiB