Package: MantelCorr Version: 1.72.0 Command: rm -rf MantelCorr.buildbin-libdir && mkdir MantelCorr.buildbin-libdir && F:\biocbuild\bbs-3.18-bioc\R\bin\R.exe CMD INSTALL --build --library=MantelCorr.buildbin-libdir MantelCorr_1.72.0.tar.gz StartedAt: 2024-04-16 07:13:43 -0400 (Tue, 16 Apr 2024) EndedAt: 2024-04-16 07:13:55 -0400 (Tue, 16 Apr 2024) EllapsedTime: 11.8 seconds RetCode: 0 Status: OK PackageFile: MantelCorr_1.72.0.zip PackageFileSize: 585.9 KiB