Package: MantelCorr Version: 1.72.0 Command: chmod a+r MantelCorr -R && F:\biocbuild\bbs-3.18-bioc\R\bin\R.exe CMD build --keep-empty-dirs --no-resave-data MantelCorr StartedAt: 2024-04-15 19:19:54 -0400 (Mon, 15 Apr 2024) EndedAt: 2024-04-15 19:20:08 -0400 (Mon, 15 Apr 2024) EllapsedTime: 13.9 seconds RetCode: 0 Status: OK PackageFile: MantelCorr_1.72.0.tar.gz PackageFileSize: 770.7 KiB