Package: MassSpecWavelet Version: 1.68.0 Command: /home/biocbuild/R/R-4.3.1/bin/R CMD check --install=check:MassSpecWavelet.install-out.txt --library=/home/biocbuild/R/R-4.3.1/site-library --no-vignettes --timings MassSpecWavelet_1.68.0.tar.gz StartedAt: 2023-11-02 11:50:26 -0000 (Thu, 02 Nov 2023) EndedAt: 2023-11-02 11:50:59 -0000 (Thu, 02 Nov 2023) EllapsedTime: 33.1 seconds RetCode: 0 Status: OK CheckDir: MassSpecWavelet.Rcheck Warnings: 0