Package: MassSpecWavelet Version: 1.68.0 Command: rm -rf MassSpecWavelet.buildbin-libdir && mkdir MassSpecWavelet.buildbin-libdir && /Users/biocbuild/BBS/utils/build-universal.sh MassSpecWavelet_1.68.0.tar.gz /Library/Frameworks/R.framework/Resources/bin/R MassSpecWavelet.buildbin-libdir StartedAt: 2024-03-04 00:48:51 -0500 (Mon, 04 Mar 2024) EndedAt: 2024-03-04 00:49:02 -0500 (Mon, 04 Mar 2024) EllapsedTime: 11.4 seconds RetCode: 0 Status: OK PackageFile: MassSpecWavelet_1.68.0.tgz PackageFileSize: 1.998 MiB